BEGIN:VCALENDAR
VERSION:2.0
PRODID:-// Paule Bane Real Estate iCal
METHOD:PUBLISH
BEGIN:VEVENT
DTSTART:20121020T110000

DTEND:20121020T9000
DTSTAMP:20210226T07392700

DESCRIPTION:Auction for 17 Edwards Avenue, Port Melbourne
LOCATION:17 Edwards Avenue, Port Melbourne, VIC, 3207
SUMMARY:Auction for 17 Edwards Avenue, Port Melbourne hosted by Paule Bane Real Estate
CATEGORIES:APPOINTMENT
CLASS:PUBLIC
BEGIN:VALARM
TRIGGER:-PT1H
ACTION:DISPLAY
DESCRIPTION:Reminder
END:VALARM
END:VEVENT
END:VCALENDAR