BEGIN:VCALENDAR
VERSION:2.0
PRODID:-// Paule Bane Real Estate iCal
METHOD:PUBLISH
BEGIN:VEVENT
DTSTART:20150815T113000

DTEND:20150815T9000
DTSTAMP:20260420T04435200

DESCRIPTION:Auction for 27 Florence Avenue, Donvale
LOCATION:27 Florence Avenue, Donvale, VIC, 3111
SUMMARY:Auction for 27 Florence Avenue, Donvale hosted by Paule Bane Real Estate
CATEGORIES:APPOINTMENT
CLASS:PUBLIC
BEGIN:VALARM
TRIGGER:-PT1H
ACTION:DISPLAY
DESCRIPTION:Reminder
END:VALARM
END:VEVENT
END:VCALENDAR