BEGIN:VCALENDAR
VERSION:2.0
PRODID:-// Paule Bane Real Estate iCal
METHOD:PUBLISH
BEGIN:VEVENT
DTSTART:20210227T121500

DTEND:20210227T123000
DTSTAMP:20260424T14530000

DESCRIPTION:Ofi for 15A Feathertop Avenue, Templestowe Lower
LOCATION:15A Feathertop Avenue, Templestowe Lower, VIC, 3107
SUMMARY:Ofi for 15A Feathertop Avenue, Templestowe Lower hosted by Paule Bane Real Estate
CATEGORIES:APPOINTMENT
CLASS:PUBLIC
BEGIN:VALARM
TRIGGER:-PT1H
ACTION:DISPLAY
DESCRIPTION:Reminder
END:VALARM
END:VEVENT
END:VCALENDAR