BEGIN:VCALENDAR
VERSION:2.0
PRODID:-// Paule Bane Real Estate iCal
METHOD:PUBLISH
BEGIN:VEVENT
DTSTART:20210227T113000

DTEND:20210227T114500
DTSTAMP:20210226T07380800

DESCRIPTION:Ofi for 6/797 Elgar Road , Doncaster
LOCATION:6/797 Elgar Road , Doncaster, VIC, 3108
SUMMARY:Ofi for 6/797 Elgar Road , Doncaster hosted by Paule Bane Real Estate
CATEGORIES:APPOINTMENT
CLASS:PUBLIC
BEGIN:VALARM
TRIGGER:-PT1H
ACTION:DISPLAY
DESCRIPTION:Reminder
END:VALARM
END:VEVENT
END:VCALENDAR