BEGIN:VCALENDAR
VERSION:2.0
PRODID:-// Paule Bane Real Estate iCal
METHOD:PUBLISH
BEGIN:VEVENT
DTSTART:20210227T103000

DTEND:20210227T104500
DTSTAMP:20210226T07373300

DESCRIPTION:Ofi for 5/175 George Street, East Melbourne
LOCATION:5/175 George Street, East Melbourne, VIC, 3002
SUMMARY:Ofi for 5/175 George Street, East Melbourne hosted by Paule Bane Real Estate
CATEGORIES:APPOINTMENT
CLASS:PUBLIC
BEGIN:VALARM
TRIGGER:-PT1H
ACTION:DISPLAY
DESCRIPTION:Reminder
END:VALARM
END:VEVENT
END:VCALENDAR